BEGIN:VCALENDAR
VERSION:2.0
PRODID:-//hacksw/handcal//NONSGML v1.0//EN
CALSCALE:GREGORIAN
BEGIN:VEVENT
ORGANIZER;CN=Altisource Portfolio Solutions:MAILTO:no-reply@mail.gcs-web.com
DTEND:
UID:da320b9d-097c-481d-a89c-3f05f32315e8
DTSTAMP:1776871340
LOCATION:https://edge.media-server.com/mmc/p/vqj9ai3i
DESCRIPTION:Event Details http://ir.altisource.com/events/event-details/first-quarter-2026-earnings-call\n\nWebcast: https://edge.media-server.com/mmc/p/vqj9ai3i
URL;VALUE=URI:https://edge.media-server.com/mmc/p/vqj9ai3i
SUMMARY:Altisource Portfolio Solutions - First Quarter 2026 Earnings Call
DTSTART:20260423T123000Z
END:VEVENT
END:VCALENDAR